BEGIN:VCALENDAR
VERSION:2.0
PRODID:-//eventon.com NONSGML v1.0//EN
BEGIN:VEVENT
UID:69eceb4939841
DTSTAMP:20260425T162649
DTSTART:20180629T160000Z
DTEND:20180629T225000Z
LOCATION:
SUMMARY:TGIF
DESCRIPTION: Vrijdagmiddagborrel Bergen op Zoom Op 29 juni sluiten wij aan bij de TGIF-borrel. Wij luiden het weekeind - en de vakantieperiode - in met een borrel met hippe en trendy hapjes. Wij hebben een aantal tafels\,  herkenbaar aan onze banners\,  gereserveerd voor onze leden. Wij ontvangen u daar graag. De[..]
END:VEVENT
END:VCALENDAR